BEGIN:VCALENDAR
VERSION:2.0
PRODID:-//Visit Bee Cave, Texas - ECPv6.15.20//NONSGML v1.0//EN
CALSCALE:GREGORIAN
METHOD:PUBLISH
X-WR-CALNAME:Visit Bee Cave, Texas
X-ORIGINAL-URL:https://visitbeecavetexas.com
X-WR-CALDESC:Events for Visit Bee Cave, Texas
REFRESH-INTERVAL;VALUE=DURATION:PT1H
X-Robots-Tag:noindex
X-PUBLISHED-TTL:PT1H
BEGIN:VTIMEZONE
TZID:UTC
BEGIN:STANDARD
TZOFFSETFROM:+0000
TZOFFSETTO:+0000
TZNAME:UTC
DTSTART:20210101T000000
END:STANDARD
END:VTIMEZONE
BEGIN:VEVENT
DTSTART;TZID=UTC:20240301T180000
DTEND;TZID=UTC:20240301T200000
DTSTAMP:20260423T144111
CREATED:20240228T194324Z
LAST-MODIFIED:20240228T194324Z
UID:3710-1709316000-1709323200@visitbeecavetexas.com
SUMMARY:LIVE ON THE LAWN
DESCRIPTION:Come and rock out to live music on the Central Plaza Lawn at Hill Country Galleria! Bring your friends\, family\, and a blanket to lounge on the lawn as you enjoy all of your favorite local musicians. Don’t forget to grab a bite at one of Hill Country Galleria’s amazing restaurants! This event is free admission\, family-friendly\, and weather permitting. This weekend\, enjoy live music by Sheridan Reed! \nLIVE ON THE LAWN SCHEDULE: \n• Sheridan Reed – Friday\, March 1st from 6pm-8pm\n• Nathan Harlan – Friday\, March 8th from 6pm-8pm\n• Havins – Friday\, March 15th from 6pm-8pm\n• Sage Ryder – Friday\, March 22nd from 6pm-8pm\n• Jo James – Friday\, March 29th from 6pm-8pm
URL:https://visitbeecavetexas.com/event/live-on-the-lawn/2024-03-01/
LOCATION:Hill Country Galleria Central Plaza Lawn\, 12700 Hill Country Blvd\, Bee Cave\, 78738
ATTACH;FMTTYPE=image/jpeg:https://visitbeecavetexas.com/wp-content/uploads/2024/02/HCG_Exteriors_4C-1.jpg
END:VEVENT
BEGIN:VEVENT
DTSTART;TZID=UTC:20220507T190000
DTEND;TZID=UTC:20220507T210000
DTSTAMP:20260423T144111
CREATED:20220308T182314Z
LAST-MODIFIED:20220308T182314Z
UID:3667-1651950000-1651957200@visitbeecavetexas.com
SUMMARY:Hill Country Galleria: Saturday Night Concert Series featuring Del Castillo Trio
DESCRIPTION:Hill Country Galleria\, a premier lifestyle center located west of downtown Austin in the beautiful Texas Hill Country\, is bringing its popular Saturday Night Concert Series back to the Central Plaza lawn this spring. The series kicks off Saturday\, March 26 and runs through May 7. This 7x music series is hosted byÂ Austin City Limits RadioÂ and features local favorites likeÂ Bob Schneider\,Â Kelly Willis\, andÂ The Peterson Brothers. Attendees are welcome to bring blankets and lawn chairs to lounge on the lawn during the show. Early arrival is encouraged to shop and dine at Hill Country Galleria retailers. Admission is free\, dogs are welcome.
URL:https://visitbeecavetexas.com/event/hill-country-galleria-saturday-night-concert-series-featuring-del-castillo-trio/
LOCATION:Hill Country Galleria Central Plaza Lawn\, 12700 Hill Country Blvd\, Bee Cave\, 78738
ATTACH;FMTTYPE=image/jpeg:https://visitbeecavetexas.com/wp-content/uploads/2022/03/2-1.jpg
END:VEVENT
BEGIN:VEVENT
DTSTART;TZID=UTC:20220430T190000
DTEND;TZID=UTC:20220430T210000
DTSTAMP:20260423T144111
CREATED:20220308T182058Z
LAST-MODIFIED:20220308T182058Z
UID:3665-1651345200-1651352400@visitbeecavetexas.com
SUMMARY:Hill Country Galleria: Saturday Night Concert Series featuring The Derailers
DESCRIPTION:Hill Country Galleria\, a premier lifestyle center located west of downtown Austin in the beautiful Texas Hill Country\, is bringing its popular Saturday Night Concert Series back to the Central Plaza lawn this spring. The series kicks off Saturday\, March 26 and runs through May 7. This 7x music series is hosted byÂ Austin City Limits RadioÂ and features local favorites likeÂ Bob Schneider\,Â Kelly Willis\, andÂ The Peterson Brothers. Attendees are welcome to bring blankets and lawn chairs to lounge on the lawn during the show. Early arrival is encouraged to shop and dine at Hill Country Galleria retailers. Admission is free\, dogs are welcome.
URL:https://visitbeecavetexas.com/event/hill-country-galleria-saturday-night-concert-series-featuring-the-derailers/
LOCATION:Hill Country Galleria Central Plaza Lawn\, 12700 Hill Country Blvd\, Bee Cave\, 78738
ATTACH;FMTTYPE=image/jpeg:https://visitbeecavetexas.com/wp-content/uploads/2022/03/2-1.jpg
END:VEVENT
BEGIN:VEVENT
DTSTART;TZID=UTC:20220430T130000
DTEND;TZID=UTC:20220430T160000
DTSTAMP:20260423T144111
CREATED:20220308T195410Z
LAST-MODIFIED:20220308T220937Z
UID:3668-1651323600-1651334400@visitbeecavetexas.com
SUMMARY:Books and Bees Festival
DESCRIPTION:Come join us for Bee Cave’s first ever book festival\, Books & Bees. As a hub of literacy for children and adults\, our Bee Cave Public Library hosts programs year round that serve hundreds of families in the area and beyond. As a Bee City USA affiliate\, the City of Bee Cave is dedicated to educating the public and helping conserve this most important insect. Our one-of-a-kind Books & Bees Festival will help accomplish our two missions – share fantastic literature with kids and adults alike\, featuring high-profile\, bestselling authors â€“ and teach our residents and their kiddos more about bees! We have so many fun activities\, entertainment and readings in store\, you will not want to miss this FREE event! \n\n\n\n  \n  \n\nSchedule of Events\n\n\nApril 30th\, 1-4 p.m. \n\n  \n\nAdult Fiction/Non-Fiction Author Readings\n\n\n1-4 p.m. \n\n\nGet excited for some beloved local authors to come read from their newest novels. Lineup to come. \n\n\nChildren’s Stage\n\n\n1-4 p.m. \n\n\nGet ready to learn all about bees\, native plants and participate in fun literary and nature-based activities as we celebrate the bee and the love of the written word with our kiddos outside on the Hill Country Galleria lawn. Schedule to come! \n\n\nYA\, Children’s Authors\n\n\n1-4 p.m. \n\n\nWe will also have wonderful young adult and children’s authors doing readings throughout the event. Stay tuned!
URL:https://visitbeecavetexas.com/event/books-and-bees-festival/
LOCATION:Hill Country Galleria Central Plaza Lawn\, 12700 Hill Country Blvd\, Bee Cave\, 78738
ATTACH;FMTTYPE=image/png:https://visitbeecavetexas.com/wp-content/uploads/2022/03/Untitled-1200-Ã—-800-px.png
END:VEVENT
BEGIN:VEVENT
DTSTART;TZID=UTC:20220423T190000
DTEND;TZID=UTC:20220423T210000
DTSTAMP:20260423T144111
CREATED:20220308T181840Z
LAST-MODIFIED:20220308T181840Z
UID:3664-1650740400-1650747600@visitbeecavetexas.com
SUMMARY:Hill Country Galleria: Saturday Night Concert Series featuring Dale Watson
DESCRIPTION:Hill Country Galleria\, a premier lifestyle center located west of downtown Austin in the beautiful Texas Hill Country\, is bringing its popular Saturday Night Concert Series back to the Central Plaza lawn this spring. The series kicks off Saturday\, March 26 and runs through May 7. This 7x music series is hosted byÂ Austin City Limits RadioÂ and features local favorites likeÂ Bob Schneider\,Â Kelly Willis\, andÂ The Peterson Brothers. Attendees are welcome to bring blankets and lawn chairs to lounge on the lawn during the show. Early arrival is encouraged to shop and dine at Hill Country Galleria retailers. Admission is free\, dogs are welcome.
URL:https://visitbeecavetexas.com/event/hill-country/
LOCATION:Hill Country Galleria Central Plaza Lawn\, 12700 Hill Country Blvd\, Bee Cave\, 78738
ATTACH;FMTTYPE=image/jpeg:https://visitbeecavetexas.com/wp-content/uploads/2022/03/2-1.jpg
END:VEVENT
BEGIN:VEVENT
DTSTART;TZID=UTC:20220416T190000
DTEND;TZID=UTC:20220416T210000
DTSTAMP:20260423T144111
CREATED:20220308T181425Z
LAST-MODIFIED:20220308T181425Z
UID:3663-1650135600-1650142800@visitbeecavetexas.com
SUMMARY:Hill Country Galleria: Saturday Night Concert Series featuring Eve & The Exiles
DESCRIPTION:Hill Country Galleria\, a premier lifestyle center located west of downtown Austin in the beautiful Texas Hill Country\, is bringing its popular Saturday Night Concert Series back to the Central Plaza lawn this spring. The series kicks off Saturday\, March 26 and runs through May 7. This 7x music series is hosted byÂ Austin City Limits RadioÂ and features local favorites likeÂ Bob Schneider\,Â Kelly Willis\, andÂ The Peterson Brothers. Attendees are welcome to bring blankets and lawn chairs to lounge on the lawn during the show. Early arrival is encouraged to shop and dine at Hill Country Galleria retailers. Admission is free\, dogs are welcome.
URL:https://visitbeecavetexas.com/event/hill-country-galleria-saturday-night-concert-series-featuring-eve-the-exiles/
LOCATION:Hill Country Galleria Central Plaza Lawn\, 12700 Hill Country Blvd\, Bee Cave\, 78738
ATTACH;FMTTYPE=image/jpeg:https://visitbeecavetexas.com/wp-content/uploads/2022/03/2-1.jpg
END:VEVENT
BEGIN:VEVENT
DTSTART;TZID=UTC:20220409T190000
DTEND;TZID=UTC:20220409T210000
DTSTAMP:20260423T144111
CREATED:20220308T180947Z
LAST-MODIFIED:20220308T181526Z
UID:3662-1649530800-1649538000@visitbeecavetexas.com
SUMMARY:Hill Country Galleria: Saturday Night Concert Series featuring Kelly Willis
DESCRIPTION:Hill Country Galleria\, a premier lifestyle center located west of downtown Austin in the beautiful Texas Hill Country\, is bringing its popular Saturday Night Concert Series back to the Central Plaza lawn this spring. The series kicks off Saturday\, March 26 and runs through May 7. This 7x music series is hosted byÂ Austin City Limits RadioÂ and features local favorites likeÂ Bob Schneider\,Â Kelly Willis\, andÂ The Peterson Brothers. Attendees are welcome to bring blankets and lawn chairs to lounge on the lawn during the show. Early arrival is encouraged to shop and dine at Hill Country Galleria retailers. Admission is free\, dogs are welcome.
URL:https://visitbeecavetexas.com/event/hill-country-galleria-saturday-night-concert-series-featuring-kelly-willis/
LOCATION:Hill Country Galleria Central Plaza Lawn\, 12700 Hill Country Blvd\, Bee Cave\, 78738
ATTACH;FMTTYPE=image/jpeg:https://visitbeecavetexas.com/wp-content/uploads/2022/03/2-1.jpg
END:VEVENT
BEGIN:VEVENT
DTSTART;TZID=UTC:20220402T190000
DTEND;TZID=UTC:20220402T210000
DTSTAMP:20260423T144111
CREATED:20220308T175413Z
LAST-MODIFIED:20220308T175413Z
UID:3660-1648926000-1648933200@visitbeecavetexas.com
SUMMARY:Hill Country Galleria: Saturday Night Concert Series featuring The Peterson Brothers
DESCRIPTION:Hill Country Galleria\, a premier lifestyle center located west of downtown Austin in the beautiful Texas Hill Country\, is bringing its popular Saturday Night Concert Series back to the Central Plaza lawn this spring. The series kicks off Saturday\, March 26 and runs through May 7. This 7x music series is hosted byÂ Austin City Limits RadioÂ and features local favorites likeÂ Bob Schneider\,Â Kelly Willis\, andÂ The Peterson Brothers. Attendees are welcome to bring blankets and lawn chairs to lounge on the lawn during the show. Early arrival is encouraged to shop and dine at Hill Country Galleria retailers. Admission is free\, dogs are welcome.
URL:https://visitbeecavetexas.com/event/hill-country-galleria-saturday-night-concert-series-featuring-the-peterson-brothers/
LOCATION:Hill Country Galleria Central Plaza Lawn\, 12700 Hill Country Blvd\, Bee Cave\, 78738
ATTACH;FMTTYPE=image/jpeg:https://visitbeecavetexas.com/wp-content/uploads/2022/03/2-1.jpg
END:VEVENT
BEGIN:VEVENT
DTSTART;TZID=UTC:20220326T190000
DTEND;TZID=UTC:20220326T210000
DTSTAMP:20260423T144111
CREATED:20220308T174128Z
LAST-MODIFIED:20220308T175628Z
UID:3656-1648321200-1648328400@visitbeecavetexas.com
SUMMARY:Hill Country Galleria: Saturday Night Concert Series featuring Bob Schneider
DESCRIPTION:Hill Country Galleria\, a premier lifestyle center located west of downtown Austin in the beautiful Texas Hill Country\, is bringing its popular Saturday Night Concert Series back to the Central Plaza lawn this spring. The series kicks off Saturday\, March 26 and runs through May 7. This 7x music series is hosted byÂ Austin City Limits RadioÂ and features local favorites likeÂ Bob Schneider\,Â Kelly Willis\, andÂ The Peterson Brothers. Attendees are welcome to bring blankets and lawn chairs to lounge on the lawn during the show. Early arrival is encouraged to shop and dine at Hill Country Galleria retailers. Admission is free\, dogs are welcome.
URL:https://visitbeecavetexas.com/event/hill-country-galleria-saturday-night-concert-series-featuring-bob-schneider/
LOCATION:Hill Country Galleria Central Plaza Lawn\, 12700 Hill Country Blvd\, Bee Cave\, 78738
ATTACH;FMTTYPE=image/jpeg:https://visitbeecavetexas.com/wp-content/uploads/2022/03/2-1.jpg
END:VEVENT
END:VCALENDAR